BEGIN:VCALENDAR
VERSION:2.0
PRODID:-//OLG St.Gallen/Appenzell - ECPv4.6.21//NONSGML v1.0//EN
CALSCALE:GREGORIAN
METHOD:PUBLISH
X-WR-CALNAME:OLG St.Gallen/Appenzell
X-ORIGINAL-URL:https://www.olgsga.ch
X-WR-CALDESC:Veranstaltungen für OLG St.Gallen/Appenzell
BEGIN:VEVENT
DTSTART;TZID=Europe/Zurich:20200910T181500
DTEND;TZID=Europe/Zurich:20200910T193000
DTSTAMP:20260421T141358
CREATED:20200829T082100Z
LAST-MODIFIED:20200829T082233Z
UID:17166-1599761700-1599766200@www.olgsga.ch
SUMMARY:Intervalltraining
DESCRIPTION:\n\n\nTrainingsleiter:\nTobias Zbinden\, Barbara Schönenberger\n\n\nZielgruppe:\nAthleten des NWK NOS und andere ambitionierte Wettkämpfer/Innen ab Jahrgang 2007\n\n\nBesammlung und Kleiderdepot:\nab 18:00 Uhr\nDufourstrasse 161\, 9000 St.Gallen\n\n\nAnmeldung:\nhttps://doodle.com/poll/mshs7geiquxi45sw\n\n\nWeitere Informationen:\nhttps://rolv-nos.ch/?p=3083\n\n\n\n
URL:https://www.olgsga.ch/event/intervalltraining-5/
LOCATION:Dufourstrasse 161\, St. Gallen\, 9000\, Schweiz
CATEGORIES:Training
END:VEVENT
END:VCALENDAR