BEGIN:VCALENDAR
VERSION:2.0
PRODID:-//OLG St.Gallen/Appenzell - ECPv4.6.21//NONSGML v1.0//EN
CALSCALE:GREGORIAN
METHOD:PUBLISH
X-WR-CALNAME:OLG St.Gallen/Appenzell
X-ORIGINAL-URL:https://www.olgsga.ch
X-WR-CALDESC:Veranstaltungen für OLG St.Gallen/Appenzell
BEGIN:VEVENT
DTSTART;TZID=Europe/Zurich:20210617T181500
DTEND;TZID=Europe/Zurich:20210617T193000
DTSTAMP:20260420T231630
CREATED:20210609T184216Z
LAST-MODIFIED:20210609T184216Z
UID:20197-1623953700-1623958200@www.olgsga.ch
SUMMARY:Intervalltraining
DESCRIPTION:\n\n\nTrainingsleiter:\nTobias Zbinden\, Barbara Schönenberger\n\n\nZielgruppe:\nAthleten des NWK NOS und andere ambitionierte Wettkämpfer/Innen ab Jahrgang 2008\n\n\nAnmeldung:\n Anmeldung obligatorisch via Doodle:\nhttps://doodle.com/poll/d9tzhq79axp53399\n\n\nBesammlung und Kleiderdepot:\nKreuzung Tigerbergstrasse-Eschenstrasse\nhttps://s.geo.admin.ch/8f15d6b08c\n\n\nWeitere Informationen:\nhttps://rolv-nos.ch/lauftraining-und-krafttraining-fuer-alle\n\n\n\n
URL:https://www.olgsga.ch/event/intervalltraining-23/
CATEGORIES:Training
END:VEVENT
END:VCALENDAR