BEGIN:VCALENDAR
VERSION:2.0
PRODID:-//OLG St.Gallen/Appenzell - ECPv4.6.21//NONSGML v1.0//EN
CALSCALE:GREGORIAN
METHOD:PUBLISH
X-WR-CALNAME:OLG St.Gallen/Appenzell
X-ORIGINAL-URL:https://www.olgsga.ch
X-WR-CALDESC:Veranstaltungen für OLG St.Gallen/Appenzell
BEGIN:VEVENT
DTSTART;VALUE=DATE:20230617
DTEND;VALUE=DATE:20230619
DTSTAMP:20260421T152841
CREATED:20230115T103620Z
LAST-MODIFIED:20230115T103620Z
UID:33949-1686974400-1687060799@www.olgsga.ch
SUMMARY:Hörnli Trail 1133
DESCRIPTION:Egal ob gemütlicher Jogger:in\, trainierte Läufer:in\, oder ambitionierte Trail Runner:in\, der Hörnli Trail 1133 verspricht auch in diesem Jahr Laufgenuss pur. \nAm Samstag\, 17. Juni 2023\, findet die 3. Austragung vom Hörnli Trail 1133 statt. \nDer Hörnli-Trail verspricht Bewegung und Spass für die ganze Familie. Ob als Standortbestimmung für einzelne Sportbegeisterte\, ein Training für einen ambitionierten Läufer\, einen Vereinsevent oder Familienspass\, der Hörnli Trail 1133 bietet für alle was. Die Kinder rennen beim Kidsrun um die schöne Klosteranlage in Fischingen. Für Stimmung an der Laufstrecke sorgen die Eltern und Fans\, die den Nachwuchs lautstark unterstützen. Der Fokus liegt jedoch klar auf Spass und Bewegung. Am Ende des Kidsrun wartet eine Überraschung auf die jungen Teilnehmer:innen. Für die Grösseren und Älteren wartet der anspruchsvolle Hörnli Trail 1133. Nicht nur im Ziel\, auf dem Hörnli\, auch schon auf den abwechslungsreichen 11.33km kommt jeder Läufer und Läuferin in den Genuss einer wunderschönen Landschaft. Auf der Strecke gibt es attraktive Preise zu gewinnen. Speziell dieses Jahr ist die Familie-Challenge. Familien\, welche die meisten Läufer:innen stellen\, gewinnen einen Preis für die gesamte Familie\, welcher diesen Anlass abrundet und zu einem unvergesslichen Tag für gross und klein macht. \nWeitere Information: www.hoernlitrail1133.ch \n
URL:https://www.olgsga.ch/event/hoernli-trail-1133-2/
CATEGORIES:diverse Anlässe
END:VEVENT
END:VCALENDAR