BEGIN:VCALENDAR
VERSION:2.0
PRODID:-//OLG St.Gallen/Appenzell - ECPv4.6.21//NONSGML v1.0//EN
CALSCALE:GREGORIAN
METHOD:PUBLISH
X-WR-CALNAME:OLG St.Gallen/Appenzell
X-ORIGINAL-URL:https://www.olgsga.ch
X-WR-CALDESC:Veranstaltungen für OLG St.Gallen/Appenzell
BEGIN:VEVENT
DTSTART;VALUE=DATE:20230826
DTEND;VALUE=DATE:20230828
DTSTAMP:20260421T232759
CREATED:20221223T171341Z
LAST-MODIFIED:20221223T171341Z
UID:33448-1693022400-1693108799@www.olgsga.ch
SUMMARY:European University Orienteering Championships: Middle
DESCRIPTION:\n\n\nKarte/Ort:\nHirschberg\n\n\nRegion:\nNOS\n\n\nDetails:\nhttps://o-l.ch/cgi-bin/fixtures?&mode=show&unique_id=11481\n\n\n\n
URL:https://www.olgsga.ch/event/european-university-orienteering-championships-middle/
CATEGORIES:diverse Anlässe
END:VEVENT
END:VCALENDAR