BEGIN:VCALENDAR
VERSION:2.0
PRODID:-//OLG St.Gallen/Appenzell - ECPv4.6.21//NONSGML v1.0//EN
CALSCALE:GREGORIAN
METHOD:PUBLISH
X-WR-CALNAME:OLG St.Gallen/Appenzell
X-ORIGINAL-URL:https://www.olgsga.ch
X-WR-CALDESC:Veranstaltungen für OLG St.Gallen/Appenzell
BEGIN:VEVENT
DTSTART;VALUE=DATE:20200523
DTEND;VALUE=DATE:20200525
DTSTAMP:20260421T211503
CREATED:20191117T211526Z
LAST-MODIFIED:20200330T172826Z
UID:16103-1590206400-1590292799@www.olgsga.ch
SUMMARY:EGK Swiss 5 Days Etappe 4 ABGESAGT
DESCRIPTION:\n\n\nKarte:\nTrembley – Tête Plumée\n\n\nOrt:\nNeuchâtel\n\n\nRegion:\nSR\n\n\nDetails:\nhttps://www.swiss5days2020.ch\n\n\n\n
URL:https://www.olgsga.ch/event/egk-swiss-5-days-etappe-4/
CATEGORIES:Nationale Saison
END:VEVENT
END:VCALENDAR