BEGIN:VCALENDAR
VERSION:2.0
PRODID:-//OLG St.Gallen/Appenzell - ECPv4.6.21//NONSGML v1.0//EN
CALSCALE:GREGORIAN
METHOD:PUBLISH
X-WR-CALNAME:OLG St.Gallen/Appenzell
X-ORIGINAL-URL:https://www.olgsga.ch
X-WR-CALDESC:Veranstaltungen für OLG St.Gallen/Appenzell
BEGIN:VEVENT
DTSTART;VALUE=DATE:20200522
DTEND;VALUE=DATE:20200524
DTSTAMP:20260421T211456
CREATED:20191117T211417Z
LAST-MODIFIED:20200330T172734Z
UID:16101-1590120000-1590206399@www.olgsga.ch
SUMMARY:EGK Swiss 5 Days Etappe 3 ABGESAGT
DESCRIPTION:\n\n\nKarte:\nTrois Bornes\n\n\nOrt:\nNeuchâtel\n\n\nRegion:\nSR\n\n\nDetails:\nhttps://www.swiss5days2020.ch\n\n\n\n
URL:https://www.olgsga.ch/event/egk-swiss-5-days-etappe-3/
CATEGORIES:Nationale Saison
END:VEVENT
END:VCALENDAR