BEGIN:VCALENDAR
VERSION:2.0
PRODID:-//OLG St.Gallen/Appenzell - ECPv4.6.21//NONSGML v1.0//EN
CALSCALE:GREGORIAN
METHOD:PUBLISH
X-WR-CALNAME:OLG St.Gallen/Appenzell
X-ORIGINAL-URL:https://www.olgsga.ch
X-WR-CALDESC:Veranstaltungen für OLG St.Gallen/Appenzell
BEGIN:VEVENT
DTSTART;VALUE=DATE:20230325
DTEND;VALUE=DATE:20230327
DTSTAMP:20260421T153232
CREATED:20230214T191203Z
LAST-MODIFIED:20230214T191203Z
UID:34532-1679716800-1679803199@www.olgsga.ch
SUMMARY:Baden-Württembergische Mitteldistanz-Einzelmeisterschaften
DESCRIPTION:\n\n\nWeitere Informationen:\nAusschreibung\n\n\n\n
URL:https://www.olgsga.ch/event/baden-wuerttembergische-mitteldistanz-einzelmeisterschaften/
CATEGORIES:diverse Anlässe
END:VEVENT
END:VCALENDAR