BEGIN:VCALENDAR
VERSION:2.0
PRODID:-//OLG St.Gallen/Appenzell - ECPv4.6.21//NONSGML v1.0//EN
CALSCALE:GREGORIAN
METHOD:PUBLISH
X-WR-CALNAME:OLG St.Gallen/Appenzell
X-ORIGINAL-URL:https://www.olgsga.ch
X-WR-CALDESC:Veranstaltungen für OLG St.Gallen/Appenzell
BEGIN:VEVENT
DTSTART;VALUE=DATE:20230504
DTEND;VALUE=DATE:20230506
DTSTAMP:20260421T170635
CREATED:20221223T171820Z
LAST-MODIFIED:20221223T171820Z
UID:33455-1683172800-1683259199@www.olgsga.ch
SUMMARY:Appenzeller sCOOL-Cup
DESCRIPTION:\n\n\nOrt:\nAppenzell\n\n\nDetails:\nweitere Informationen folgen…\n\n\nWeitere Informationen:\nWebsite sCOOL\n\n\n\n
URL:https://www.olgsga.ch/event/appenzeller-scool-cup-8/
LOCATION:Kaustrasse 3c\, Appenzell\, 9050\, Schweiz
CATEGORIES:sCOOL / Schulen
ORGANIZER;CN="OLG%20St.Gallen%2FAppenzell":MAILTO:info@olgsga.ch
END:VEVENT
END:VCALENDAR