BEGIN:VCALENDAR
VERSION:2.0
PRODID:-//OLG St.Gallen/Appenzell - ECPv4.6.21//NONSGML v1.0//EN
CALSCALE:GREGORIAN
METHOD:PUBLISH
X-WR-CALNAME:OLG St.Gallen/Appenzell
X-ORIGINAL-URL:https://www.olgsga.ch
X-WR-CALDESC:Veranstaltungen für OLG St.Gallen/Appenzell
BEGIN:VEVENT
DTSTART;VALUE=DATE:20181006
DTEND;VALUE=DATE:20181009
DTSTAMP:20260425T103321
CREATED:20171203T101724Z
LAST-MODIFIED:20171203T101724Z
UID:12218-1538798400-1538971199@www.olgsga.ch
SUMMARY:9. und 10. Nationaler OL
DESCRIPTION:9. Nationaler OL Mitteldistanz bei Monthey \n10. Nationaler OL Langdistanz bei Bretaye \n
URL:https://www.olgsga.ch/event/9-und-10-nationaler-ol/
CATEGORIES:Nationale Saison
END:VEVENT
END:VCALENDAR