BEGIN:VCALENDAR
VERSION:2.0
PRODID:-//OLG St.Gallen/Appenzell - ECPv4.6.21//NONSGML v1.0//EN
CALSCALE:GREGORIAN
METHOD:PUBLISH
X-WR-CALNAME:OLG St.Gallen/Appenzell
X-ORIGINAL-URL:https://www.olgsga.ch
X-WR-CALDESC:Veranstaltungen für OLG St.Gallen/Appenzell
BEGIN:VEVENT
DTSTART;VALUE=DATE:20231001
DTEND;VALUE=DATE:20231003
DTSTAMP:20260422T012302
CREATED:20221223T171026Z
LAST-MODIFIED:20221223T171026Z
UID:33438-1696132800-1696219199@www.olgsga.ch
SUMMARY:9. Nationaler OL (Langdistanz)
DESCRIPTION:\n\n\nKarte/Ort:\nCol du Pillon – Isenau\n\n\nRegion:\nSR\n\n\nDetails:\nhttps://o-l.ch/cgi-bin/fixtures?&mode=show&unique_id=11478\n\n\n\n
URL:https://www.olgsga.ch/event/9-nationaler-ol-langdistanz-2/
CATEGORIES:Nationale Saison
END:VEVENT
END:VCALENDAR