BEGIN:VCALENDAR
VERSION:2.0
PRODID:-//OLG St.Gallen/Appenzell - ECPv4.6.21//NONSGML v1.0//EN
CALSCALE:GREGORIAN
METHOD:PUBLISH
X-WR-CALNAME:OLG St.Gallen/Appenzell
X-ORIGINAL-URL:https://www.olgsga.ch
X-WR-CALDESC:Veranstaltungen für OLG St.Gallen/Appenzell
BEGIN:VEVENT
DTSTART;TZID=Europe/Zurich:20180502T173000
DTEND;TZID=Europe/Zurich:20180502T190000
DTSTAMP:20260425T154445
CREATED:20171202T085923Z
LAST-MODIFIED:20171202T085923Z
UID:12116-1525282200-1525287600@www.olgsga.ch
SUMMARY:9. Marper Dorf-OL
DESCRIPTION:\n1. Lauf des Rheintaler OL-Cups 2018\, in Marbach SG \nLink zu weiteren Informationen \n\n
URL:https://www.olgsga.ch/event/9-marper-dorf-ol/
CATEGORIES:Rheintaler OL-Cup,Training
ORGANIZER;CN="OLG%20St.Gallen%2FAppenzell":MAILTO:info@olgsga.ch
END:VEVENT
END:VCALENDAR