BEGIN:VCALENDAR
VERSION:2.0
PRODID:-//OLG St.Gallen/Appenzell - ECPv4.6.21//NONSGML v1.0//EN
CALSCALE:GREGORIAN
METHOD:PUBLISH
X-WR-CALNAME:OLG St.Gallen/Appenzell
X-ORIGINAL-URL:https://www.olgsga.ch
X-WR-CALDESC:Veranstaltungen für OLG St.Gallen/Appenzell
BEGIN:VEVENT
DTSTART;VALUE=DATE:20171021
DTEND;VALUE=DATE:20171024
DTSTAMP:20260426T042744
CREATED:20161218T083016Z
LAST-MODIFIED:20161218T083016Z
UID:10263-1508558400-1508731199@www.olgsga.ch
SUMMARY:8. und 9. Nationaler OL
DESCRIPTION:8. Nationaler OL (Sprintdistanz) und 9. Nationaler OL (Langdistanz) im Gebiet Rigi (OLG-Clubweekend) \n
URL:https://www.olgsga.ch/event/8-und-9-nationaler-ol/
CATEGORIES:Nationale Saison
END:VEVENT
END:VCALENDAR