BEGIN:VCALENDAR
VERSION:2.0
PRODID:-//OLG St.Gallen/Appenzell - ECPv4.6.21//NONSGML v1.0//EN
CALSCALE:GREGORIAN
METHOD:PUBLISH
X-WR-CALNAME:OLG St.Gallen/Appenzell
X-ORIGINAL-URL:https://www.olgsga.ch
X-WR-CALDESC:Veranstaltungen für OLG St.Gallen/Appenzell
BEGIN:VEVENT
DTSTART;VALUE=DATE:20210513
DTEND;VALUE=DATE:20210515
DTSTAMP:20260421T004842
CREATED:20201226T161058Z
LAST-MODIFIED:20210226T204505Z
UID:17889-1620878400-1620964799@www.olgsga.ch
SUMMARY:8. Nationaler OL (Langdistanz) / Swiss 5 Days E2 ABGESAGT
DESCRIPTION:\n\n\nKarte/Ort:\nChaumont – Tête Plumée\, Neuchâtel\n\n\nRegion:\nSR\n\n\nDetails:\nhttps://o-l.ch/cgi-bin/fixtures?&mode=show&unique_id=10673\n\n\n\n
URL:https://www.olgsga.ch/event/8-nationaler-ol-langdistanz-swiss-5-days-e2/
CATEGORIES:Nationale Saison
END:VEVENT
END:VCALENDAR