BEGIN:VCALENDAR
VERSION:2.0
PRODID:-//OLG St.Gallen/Appenzell - ECPv4.6.21//NONSGML v1.0//EN
CALSCALE:GREGORIAN
METHOD:PUBLISH
X-WR-CALNAME:OLG St.Gallen/Appenzell
X-ORIGINAL-URL:https://www.olgsga.ch
X-WR-CALDESC:Veranstaltungen für OLG St.Gallen/Appenzell
BEGIN:VEVENT
DTSTART;VALUE=DATE:20230423
DTEND;VALUE=DATE:20230425
DTSTAMP:20260421T184041
CREATED:20221223T165433Z
LAST-MODIFIED:20221223T165433Z
UID:33393-1682222400-1682308799@www.olgsga.ch
SUMMARY:69. Weinfelder OL
DESCRIPTION:\n\n\nKarte/Ort:\nSteckborn\n\n\nRegion:\nNOS\n\n\nDetails:\nhttps://o-l.ch/cgi-bin/fixtures?&mode=show&unique_id=11829\n\n\n\n
URL:https://www.olgsga.ch/event/69-weinfelder-ol/
CATEGORIES:Regionale Saison
END:VEVENT
END:VCALENDAR