BEGIN:VCALENDAR
VERSION:2.0
PRODID:-//OLG St.Gallen/Appenzell - ECPv4.6.21//NONSGML v1.0//EN
CALSCALE:GREGORIAN
METHOD:PUBLISH
X-WR-CALNAME:OLG St.Gallen/Appenzell
X-ORIGINAL-URL:https://www.olgsga.ch
X-WR-CALDESC:Veranstaltungen für OLG St.Gallen/Appenzell
BEGIN:VEVENT
DTSTART;VALUE=DATE:20230410
DTEND;VALUE=DATE:20230412
DTSTAMP:20260421T170704
CREATED:20221223T165354Z
LAST-MODIFIED:20221223T165354Z
UID:33391-1681099200-1681185599@www.olgsga.ch
SUMMARY:69. Amriswiler OL
DESCRIPTION:\n\n\nKarte/Ort:\nStadt Romanshorn\n\n\nRegion:\nNOS\n\n\nDetails:\nhttps://o-l.ch/cgi-bin/fixtures?&mode=show&unique_id=11828\n\n\n\n
URL:https://www.olgsga.ch/event/69-amriswiler-ol-2/
CATEGORIES:Regionale Saison
END:VEVENT
END:VCALENDAR