BEGIN:VCALENDAR
VERSION:2.0
PRODID:-//OLG St.Gallen/Appenzell - ECPv4.6.21//NONSGML v1.0//EN
CALSCALE:GREGORIAN
METHOD:PUBLISH
X-WR-CALNAME:OLG St.Gallen/Appenzell
X-ORIGINAL-URL:https://www.olgsga.ch
X-WR-CALDESC:Veranstaltungen für OLG St.Gallen/Appenzell
BEGIN:VEVENT
DTSTART;VALUE=DATE:20180402
DTEND;VALUE=DATE:20180404
DTSTAMP:20260425T154514
CREATED:20171203T091914Z
LAST-MODIFIED:20171203T091914Z
UID:12174-1522641600-1522727999@www.olgsga.ch
SUMMARY:66. Amriswiler OL
DESCRIPTION:66. Amriswiler OL\, Karte Romanshornerwald \n
URL:https://www.olgsga.ch/event/66-amriswiler-ol/
CATEGORIES:Regionale Saison
END:VEVENT
END:VCALENDAR