BEGIN:VCALENDAR
VERSION:2.0
PRODID:-//OLG St.Gallen/Appenzell - ECPv4.6.21//NONSGML v1.0//EN
CALSCALE:GREGORIAN
METHOD:PUBLISH
X-WR-CALNAME:OLG St.Gallen/Appenzell
X-ORIGINAL-URL:https://www.olgsga.ch
X-WR-CALDESC:Veranstaltungen für OLG St.Gallen/Appenzell
BEGIN:VEVENT
DTSTART;VALUE=DATE:20180624
DTEND;VALUE=DATE:20180626
DTSTAMP:20260425T154648
CREATED:20171203T101031Z
LAST-MODIFIED:20171203T101031Z
UID:12212-1529812800-1529899199@www.olgsga.ch
SUMMARY:62. Fünferstaffel
DESCRIPTION:62. Fünferstaffel\, Mörsburg \n
URL:https://www.olgsga.ch/event/62-fuenferstaffel/
CATEGORIES:Nationale Saison
END:VEVENT
END:VCALENDAR