BEGIN:VCALENDAR
VERSION:2.0
PRODID:-//OLG St.Gallen/Appenzell - ECPv4.6.21//NONSGML v1.0//EN
CALSCALE:GREGORIAN
METHOD:PUBLISH
X-WR-CALNAME:OLG St.Gallen/Appenzell
X-ORIGINAL-URL:https://www.olgsga.ch
X-WR-CALDESC:Veranstaltungen für OLG St.Gallen/Appenzell
BEGIN:VEVENT
DTSTART;VALUE=DATE:20171029
DTEND;VALUE=DATE:20171031
DTSTAMP:20260426T042908
CREATED:20161218T083216Z
LAST-MODIFIED:20161218T083216Z
UID:10264-1509249600-1509335999@www.olgsga.ch
SUMMARY:61. Wiler OL / 14. ROLV NOS Finallauf
DESCRIPTION:61. Wiler OL / 14. ROLV NOS Finallauf\, Karte Lommiswald  \n
URL:https://www.olgsga.ch/event/61-wiler-ol-14-rolv-nos-finallauf/
CATEGORIES:Regionale Saison
END:VEVENT
END:VCALENDAR