BEGIN:VCALENDAR
VERSION:2.0
PRODID:-//OLG St.Gallen/Appenzell - ECPv4.6.21//NONSGML v1.0//EN
CALSCALE:GREGORIAN
METHOD:PUBLISH
X-WR-CALNAME:OLG St.Gallen/Appenzell
X-ORIGINAL-URL:https://www.olgsga.ch
X-WR-CALDESC:Veranstaltungen für OLG St.Gallen/Appenzell
BEGIN:VEVENT
DTSTART;VALUE=DATE:20230910
DTEND;VALUE=DATE:20230912
DTSTAMP:20260421T235313
CREATED:20221223T170759Z
LAST-MODIFIED:20221223T170759Z
UID:33428-1694318400-1694404799@www.olgsga.ch
SUMMARY:6. Nationaler OL (Langdistanz)
DESCRIPTION:\n\n\nKarte/Ort:\nHonegg\n\n\nRegion:\nBE/SO\n\n\nDetails:\nhttps://o-l.ch/cgi-bin/fixtures?&mode=show&unique_id=11467\n\n\n\n
URL:https://www.olgsga.ch/event/6-nationaler-ol-langdistanz-2/
CATEGORIES:Nationale Saison
END:VEVENT
END:VCALENDAR