BEGIN:VCALENDAR
VERSION:2.0
PRODID:-//OLG St.Gallen/Appenzell - ECPv4.6.21//NONSGML v1.0//EN
CALSCALE:GREGORIAN
METHOD:PUBLISH
X-WR-CALNAME:OLG St.Gallen/Appenzell
X-ORIGINAL-URL:https://www.olgsga.ch
X-WR-CALDESC:Veranstaltungen für OLG St.Gallen/Appenzell
BEGIN:VEVENT
DTSTART;VALUE=DATE:20201025
DTEND;VALUE=DATE:20201027
DTSTAMP:20260421T123701
CREATED:20191117T213032Z
LAST-MODIFIED:20200924T172117Z
UID:16123-1603598400-1603684799@www.olgsga.ch
SUMMARY:53. Engelburger OL / 17. Nordostschweizer OL Meisterschaftslauf
DESCRIPTION:\n\n\nKarte:\nHohfirst\n\n\nOrt:\nEngelburg\n\n\nRegion:\nNOS\n\n\nDetails:\nAusschreibung (Änderungen vorbehalten)\n\n\n\n
URL:https://www.olgsga.ch/event/53-engelburger-ol-17-nordostschweizer-ol-meisterschaftslauf/
CATEGORIES:Regionale Saison,Vereinsanlässe
ORGANIZER;CN="OLG%20St.Gallen%2FAppenzell":MAILTO:info@olgsga.ch
END:VEVENT
END:VCALENDAR