BEGIN:VCALENDAR
VERSION:2.0
PRODID:-//OLG St.Gallen/Appenzell - ECPv4.6.21//NONSGML v1.0//EN
CALSCALE:GREGORIAN
METHOD:PUBLISH
X-WR-CALNAME:OLG St.Gallen/Appenzell
X-ORIGINAL-URL:https://www.olgsga.ch
X-WR-CALDESC:Veranstaltungen für OLG St.Gallen/Appenzell
BEGIN:VEVENT
DTSTART;VALUE=DATE:20230211
DTEND;VALUE=DATE:20230213
DTSTAMP:20260421T220541
CREATED:20221223T204305Z
LAST-MODIFIED:20221223T204305Z
UID:33466-1676088000-1676174399@www.olgsga.ch
SUMMARY:47. Hauptversammlung mit Clubmeisterschaft
DESCRIPTION:\n\n\nab 13:45\nBeginn der Clubmeisterschaft\n\n\n17:00\nBeginn der HV\n\n\nca. 18:30\nAbendessen\n\n\nca. 19:30\nFortsetzung der HV\n\n\nanschliessend\nDessert und gemütliches Beisammensein\n\n\nOrt:\nClubmeisterschaft: Sporthalle Wühre (südlicher Hintereingang!)\, Kaustrasse 3c\, 9050 Appenzell\nHV: Restaurant Alpstein\, Gaiserstrasse 10b\, 9050 Appenzell\n\n\nAnmeldung HV & Clubmeisterschaft:\nWir bitten um eine Anmeldung oder Abmeldung für die HV und/oder für die Clubmeisterschaft (mit Angabe der Badge-Nummer) bis spätestens am 2. Februar 2023 an: info@olgsga.ch oder Raphael Wälter\, Schulstrasse 4\, 9450 Altstätten.\n\n\n\n
URL:https://www.olgsga.ch/event/47-hauptversammlung-mit-clubmeisterschaft/
CATEGORIES:Vereinsanlässe
ORGANIZER;CN="OLG%20St.Gallen%2FAppenzell":MAILTO:info@olgsga.ch
END:VEVENT
END:VCALENDAR