BEGIN:VCALENDAR
VERSION:2.0
PRODID:-//OLG St.Gallen/Appenzell - ECPv4.6.21//NONSGML v1.0//EN
CALSCALE:GREGORIAN
METHOD:PUBLISH
X-WR-CALNAME:OLG St.Gallen/Appenzell
X-ORIGINAL-URL:https://www.olgsga.ch
X-WR-CALDESC:Veranstaltungen für OLG St.Gallen/Appenzell
BEGIN:VEVENT
DTSTART;VALUE=DATE:20190831
DTEND;VALUE=DATE:20190902
DTSTAMP:20260424T222839
CREATED:20181202T135544Z
LAST-MODIFIED:20181202T135544Z
UID:14003-1567224000-1567310399@www.olgsga.ch
SUMMARY:4. Nationaler OL
DESCRIPTION:4. Nationaler OL\, Mitteldistanz\, Trübsee \n
URL:https://www.olgsga.ch/event/4-nationaler-ol-5/
CATEGORIES:Nationale Saison
END:VEVENT
END:VCALENDAR