BEGIN:VCALENDAR
VERSION:2.0
PRODID:-//OLG St.Gallen/Appenzell - ECPv4.6.21//NONSGML v1.0//EN
CALSCALE:GREGORIAN
METHOD:PUBLISH
X-WR-CALNAME:OLG St.Gallen/Appenzell
X-ORIGINAL-URL:https://www.olgsga.ch
X-WR-CALDESC:Veranstaltungen für OLG St.Gallen/Appenzell
BEGIN:VEVENT
DTSTART;VALUE=DATE:20180408
DTEND;VALUE=DATE:20180409
DTSTAMP:20260425T154621
CREATED:20171203T100451Z
LAST-MODIFIED:20171203T100451Z
UID:12206-1523160000-1523160000@www.olgsga.ch
SUMMARY:3. Nationaler OL
DESCRIPTION:3. Nationaler OL\, Langdistanz\, Stammerberg \n
URL:https://www.olgsga.ch/event/3-nationaler-ol-4/
CATEGORIES:Nationale Saison
END:VEVENT
END:VCALENDAR