BEGIN:VCALENDAR
VERSION:2.0
PRODID:-//OLG St.Gallen/Appenzell - ECPv4.6.21//NONSGML v1.0//EN
CALSCALE:GREGORIAN
METHOD:PUBLISH
X-WR-CALNAME:OLG St.Gallen/Appenzell
X-ORIGINAL-URL:https://www.olgsga.ch
X-WR-CALDESC:Veranstaltungen für OLG St.Gallen/Appenzell
BEGIN:VEVENT
DTSTART;VALUE=DATE:20200413
DTEND;VALUE=DATE:20200415
DTSTAMP:20260421T174608
CREATED:20191117T210320Z
LAST-MODIFIED:20200315T210242Z
UID:16088-1586750400-1586836799@www.olgsga.ch
SUMMARY:15. Stöff Memorial OL ABGESAGT
DESCRIPTION:\n\n\nKarte:\nAltenberg\n\n\nRegion:\nNOS\n\n\nDetails:\nhttps://o-l.ch/cgi-bin/fixtures?&mode=show&unique_id=10147\n\n\n\n
URL:https://www.olgsga.ch/event/15-stoeff-memorial-ol/
CATEGORIES:Regionale Saison
END:VEVENT
END:VCALENDAR