BEGIN:VCALENDAR
VERSION:2.0
PRODID:-//OLG St.Gallen/Appenzell - ECPv4.6.21//NONSGML v1.0//EN
CALSCALE:GREGORIAN
METHOD:PUBLISH
X-WR-CALNAME:OLG St.Gallen/Appenzell
X-ORIGINAL-URL:https://www.olgsga.ch
X-WR-CALDESC:Veranstaltungen für OLG St.Gallen/Appenzell
BEGIN:VEVENT
DTSTART;TZID=Europe/Zurich:20180905T173000
DTEND;TZID=Europe/Zurich:20180905T190000
DTSTAMP:20260425T120738
CREATED:20171202T091247Z
LAST-MODIFIED:20171202T091430Z
UID:12124-1536168600-1536174000@www.olgsga.ch
SUMMARY:11. Bernecker Dorf-OL
DESCRIPTION:\nSchlusslauf des Rheintaler OL-Cups 2018 \nLink zu weiteren Informationen \n\n
URL:https://www.olgsga.ch/event/11-bernecker-dorf-ol/
CATEGORIES:Rheintaler OL-Cup,Training
ORGANIZER;CN="OLG%20St.Gallen%2FAppenzell":MAILTO:info@olgsga.ch
END:VEVENT
END:VCALENDAR