BEGIN:VCALENDAR
VERSION:2.0
PRODID:-//OLG St.Gallen/Appenzell - ECPv4.6.21//NONSGML v1.0//EN
CALSCALE:GREGORIAN
METHOD:PUBLISH
X-WR-CALNAME:OLG St.Gallen/Appenzell
X-ORIGINAL-URL:http://www.olgsga.ch
X-WR-CALDESC:Veranstaltungen für OLG St.Gallen/Appenzell
BEGIN:VEVENT
DTSTART;VALUE=DATE:20220813
DTEND;VALUE=DATE:20220815
DTSTAMP:20260421T103035
CREATED:20220718T202512Z
LAST-MODIFIED:20220718T202625Z
UID:29602-1660363200-1660449599@www.olgsga.ch
SUMMARY:Vereinsausflug auf die Ebenalp
DESCRIPTION:Liebe OLG-Mitglieder \nWir möchten euch herzlich zum OLG-Vereinsausflug auf die Ebenalp einladen! Wir verbringen einen geselligen Tag beim «Gartenhüsli» vom Skiclub Appenzell. Vor und nach dem Grillieren kann man plaudern\, sünnelen\, jassen\, wandern oder es einfach nur geniessen. Und dank Andrin Sutters Karte kann man auch OL trainieren – denn die voralpinen Wettkämpfe stehen schon bald vor der Tür… \nWeitere Informationen: Ausschreibung \n
URL:http://www.olgsga.ch/event/vereinsausflug-auf-die-ebenalp/
CATEGORIES:Vereinsanlässe
ORGANIZER;CN="OLG%20St.Gallen%2FAppenzell":MAILTO:info@olgsga.ch
END:VEVENT
END:VCALENDAR