BEGIN:VCALENDAR
VERSION:2.0
PRODID:-//OLG St.Gallen/Appenzell - ECPv4.6.21//NONSGML v1.0//EN
CALSCALE:GREGORIAN
METHOD:PUBLISH
X-WR-CALNAME:OLG St.Gallen/Appenzell
X-ORIGINAL-URL:http://www.olgsga.ch
X-WR-CALDESC:Veranstaltungen für OLG St.Gallen/Appenzell
BEGIN:VEVENT
DTSTART;VALUE=DATE:20250502
DTEND;VALUE=DATE:20250504
DTSTAMP:20260421T051933
CREATED:20241207T205603Z
LAST-MODIFIED:20250125T154700Z
UID:40123-1746158400-1746244799@www.olgsga.ch
SUMMARY:St.Galler sCOOL-Cup
DESCRIPTION:\n\n\nOrt:\nKirchberg\n\n\nDetails:\nInformationen (www.scool.ch)\n\n\n\n
URL:http://www.olgsga.ch/event/st-galler-scool-cup-9/
CATEGORIES:sCOOL / Schulen
END:VEVENT
END:VCALENDAR