BEGIN:VCALENDAR
VERSION:2.0
PRODID:-//OLG St.Gallen/Appenzell - ECPv4.6.21//NONSGML v1.0//EN
CALSCALE:GREGORIAN
METHOD:PUBLISH
X-WR-CALNAME:OLG St.Gallen/Appenzell
X-ORIGINAL-URL:http://www.olgsga.ch
X-WR-CALDESC:Veranstaltungen für OLG St.Gallen/Appenzell
BEGIN:VEVENT
DTSTART;VALUE=DATE:20210917
DTEND;VALUE=DATE:20210919
DTSTAMP:20260420T151343
CREATED:20201226T184519Z
LAST-MODIFIED:20210908T211515Z
UID:17947-1631851200-1631937599@www.olgsga.ch
SUMMARY:St. Galler sCOOL-Cup ABGESAGT
DESCRIPTION:\n\n\nOrt:\nGossau SG\n\n\nDetails:\nweitere Details folgen…\n\n\nWeitere Informationen:\nWebsite sCOOL\n\n\n\n
URL:http://www.olgsga.ch/event/st-galler-scool-cup-5/
CATEGORIES:sCOOL / Schulen
ORGANIZER;CN="OLG%20St.Gallen%2FAppenzell":MAILTO:info@olgsga.ch
END:VEVENT
END:VCALENDAR