BEGIN:VCALENDAR
VERSION:2.0
PRODID:-//OLG St.Gallen/Appenzell - ECPv4.6.21//NONSGML v1.0//EN
CALSCALE:GREGORIAN
METHOD:PUBLISH
X-WR-CALNAME:OLG St.Gallen/Appenzell
X-ORIGINAL-URL:http://www.olgsga.ch
X-WR-CALDESC:Veranstaltungen für OLG St.Gallen/Appenzell
BEGIN:VEVENT
DTSTART;VALUE=DATE:20210718
DTEND;VALUE=DATE:20210726
DTSTAMP:20260420T185006
CREATED:20201226T173807Z
LAST-MODIFIED:20201226T173917Z
UID:17908-1626580800-1627185599@www.olgsga.ch
SUMMARY:SOW
DESCRIPTION:\n\n\nKarte/Ort:\nArosa\n\n\nRegion:\nGR\n\n\nDetails:\nwww.swiss-o-week.ch\n\n\n\n
URL:http://www.olgsga.ch/event/sow-2021/
CATEGORIES:Nationale Saison
END:VEVENT
END:VCALENDAR