BEGIN:VCALENDAR
VERSION:2.0
PRODID:-//OLG St.Gallen/Appenzell - ECPv4.6.21//NONSGML v1.0//EN
CALSCALE:GREGORIAN
METHOD:PUBLISH
X-WR-CALNAME:OLG St.Gallen/Appenzell
X-ORIGINAL-URL:http://www.olgsga.ch
X-WR-CALDESC:Veranstaltungen für OLG St.Gallen/Appenzell
BEGIN:VEVENT
DTSTART;VALUE=DATE:20220821
DTEND;VALUE=DATE:20220823
DTSTAMP:20260421T102722
CREATED:20211204T131629Z
LAST-MODIFIED:20211204T131629Z
UID:24415-1661054400-1661140799@www.olgsga.ch
SUMMARY:Schweizermeisterschaft Staffel (SOM)
DESCRIPTION:\n\n\nKarte/Ort:\nSchmidwald\n\n\nRegion:\nBE/SO\n\n\nDetails:\nhttps://o-l.ch/cgi-bin/fixtures?&mode=show&unique_id=11002\n\n\n\n
URL:http://www.olgsga.ch/event/schweizermeisterschaft-staffel-som/
CATEGORIES:Nationale Saison
END:VEVENT
END:VCALENDAR