BEGIN:VCALENDAR
VERSION:2.0
PRODID:-//OLG St.Gallen/Appenzell - ECPv4.6.21//NONSGML v1.0//EN
CALSCALE:GREGORIAN
METHOD:PUBLISH
X-WR-CALNAME:OLG St.Gallen/Appenzell
X-ORIGINAL-URL:http://www.olgsga.ch
X-WR-CALDESC:Veranstaltungen für OLG St.Gallen/Appenzell
BEGIN:VEVENT
DTSTART;VALUE=DATE:20220312
DTEND;VALUE=DATE:20220314
DTSTAMP:20260420T233326
CREATED:20211204T125944Z
LAST-MODIFIED:20211204T125944Z
UID:24385-1647057600-1647143999@www.olgsga.ch
SUMMARY:Schweizermeisterschaft Nacht OL (NOM)
DESCRIPTION:\n\n\nKarte/Ort:\nWangenerwald\n\n\nRegion:\nZH/SH\n\n\nDetails:\nhttps://o-l.ch/cgi-bin/fixtures?&mode=show&unique_id=11230\n\n\n\n
URL:http://www.olgsga.ch/event/schweizermeisterschaft-nacht-ol-nom-2/
CATEGORIES:Nationale Saison
END:VEVENT
END:VCALENDAR