BEGIN:VCALENDAR
VERSION:2.0
PRODID:-//OLG St.Gallen/Appenzell - ECPv4.6.21//NONSGML v1.0//EN
CALSCALE:GREGORIAN
METHOD:PUBLISH
X-WR-CALNAME:OLG St.Gallen/Appenzell
X-ORIGINAL-URL:http://www.olgsga.ch
X-WR-CALDESC:Veranstaltungen für OLG St.Gallen/Appenzell
BEGIN:VEVENT
DTSTART;TZID=Europe/Zurich:20220824T184500
DTEND;TZID=Europe/Zurich:20220824T184500
DTSTAMP:20260421T120200
CREATED:20220703T144130Z
LAST-MODIFIED:20220703T144130Z
UID:29233-1661366700-1661366700@www.olgsga.ch
SUMMARY:ROLV-Staffel
DESCRIPTION:\n\n\nKarte:\nTellenfeld Amriswil\, 1:4000\n\n\nForm:\nSprint-Staffel (4er-Staffel)\n\n\nMassenstart:\n18:45 Uhr\n\n\nWeitere Informationen:\nAusschreibung\n\n\n\n
URL:http://www.olgsga.ch/event/rolv-staffel-7/
CATEGORIES:Regionale Saison,Training
END:VEVENT
END:VCALENDAR