BEGIN:VCALENDAR
VERSION:2.0
PRODID:-//OLG St.Gallen/Appenzell - ECPv4.6.21//NONSGML v1.0//EN
CALSCALE:GREGORIAN
METHOD:PUBLISH
X-WR-CALNAME:OLG St.Gallen/Appenzell
X-ORIGINAL-URL:http://www.olgsga.ch
X-WR-CALDESC:Veranstaltungen für OLG St.Gallen/Appenzell
BEGIN:VEVENT
DTSTART;TZID=Europe/Zurich:20210825T180000
DTEND;TZID=Europe/Zurich:20210825T180000
DTSTAMP:20260420T165227
CREATED:20201226T184253Z
LAST-MODIFIED:20210626T090409Z
UID:17945-1629914400-1629914400@www.olgsga.ch
SUMMARY:ROLV-Staffel
DESCRIPTION:\n\n\nZeitplan:\nab 18:00 Uhr: Besammlung\n18:15 Uhr: Infos zum Staffelablauf\n18:30 Uhr: Start\n\n\nKarte/Ort:\n Fischingen\, OL-Karte „Skihütte“\n\n\nStrecken:\nLang: 3.4 km\, 170 m Steigung\nMittel: 2.5 km\, 140 m Steigung\nKurz: 1.8 km\, 80 m Steigung (Schwierigkeit D/H 12)\n\n\nDetails:\nAusschreibung\n\n\n\n
URL:http://www.olgsga.ch/event/rolv-staffel-6/
CATEGORIES:Regionale Saison,Training
END:VEVENT
END:VCALENDAR