BEGIN:VCALENDAR
VERSION:2.0
PRODID:-//OLG St.Gallen/Appenzell - ECPv4.6.21//NONSGML v1.0//EN
CALSCALE:GREGORIAN
METHOD:PUBLISH
X-WR-CALNAME:OLG St.Gallen/Appenzell
X-ORIGINAL-URL:http://www.olgsga.ch
X-WR-CALDESC:Veranstaltungen für OLG St.Gallen/Appenzell
BEGIN:VEVENT
DTSTART;VALUE=DATE:20211011
DTEND;VALUE=DATE:20211018
DTSTAMP:20260420T164507
CREATED:20210513T204014Z
LAST-MODIFIED:20210513T204014Z
UID:19867-1633924800-1634443199@www.olgsga.ch
SUMMARY:ROLV-Lager
DESCRIPTION:Wir laden dich herzlich in das ROLV-Lager 2021 ein! In der Woche vom 11.10.21 bis 16.10.21 reisen wir ins wunderschöne Berner Oberland nach Schönried bei Gstaad. Nebst dem vielfältigen Trainings-Angebot\, das für OL begeisterte Youngsters ab dem 10. Altersjahr geeignet ist\, wird auch der Spass sicherlich nicht zu kurz kommen. \nWeitere Informationen: Ausschreibung/Anmeldung \n
URL:http://www.olgsga.ch/event/rolv-lager/
CATEGORIES:Regionale Saison,Training
END:VEVENT
END:VCALENDAR