BEGIN:VCALENDAR
VERSION:2.0
PRODID:-//OLG St.Gallen/Appenzell - ECPv4.6.21//NONSGML v1.0//EN
CALSCALE:GREGORIAN
METHOD:PUBLISH
X-WR-CALNAME:OLG St.Gallen/Appenzell
X-ORIGINAL-URL:http://www.olgsga.ch
X-WR-CALDESC:Veranstaltungen für OLG St.Gallen/Appenzell
BEGIN:VEVENT
DTSTART;VALUE=DATE:20250419
DTEND;VALUE=DATE:20250421
DTSTAMP:20260421T120351
CREATED:20250222T125312Z
LAST-MODIFIED:20250222T125312Z
UID:40412-1745035200-1745121599@www.olgsga.ch
SUMMARY:Osterhasen-OL Gottlieben
DESCRIPTION:\n\n\nWo:\nGottlieben (TG)\n\n\nDetails:\nwww.osterhasen-ol.ch\n\n\n\n
URL:http://www.olgsga.ch/event/osterhasen-ol-gottlieben/
CATEGORIES:diverse Anlässe
END:VEVENT
END:VCALENDAR