BEGIN:VCALENDAR
VERSION:2.0
PRODID:-//OLG St.Gallen/Appenzell - ECPv4.6.21//NONSGML v1.0//EN
CALSCALE:GREGORIAN
METHOD:PUBLISH
X-WR-CALNAME:OLG St.Gallen/Appenzell
X-ORIGINAL-URL:http://www.olgsga.ch
X-WR-CALDESC:Veranstaltungen für OLG St.Gallen/Appenzell
BEGIN:VEVENT
DTSTART;VALUE=DATE:20220416
DTEND;VALUE=DATE:20220418
DTSTAMP:20260420T232654
CREATED:20220228T190722Z
LAST-MODIFIED:20220228T190805Z
UID:26207-1650081600-1650167999@www.olgsga.ch
SUMMARY:Osterhasen-OL Ermatingen
DESCRIPTION:\n\n\nWas:\neinfacher Dorf-OL für Familien und Freizeitsportler\n\n\nWo:\nStrandbad Ermatingen\n\n\nDetails:\nwww.osterhasen-ol.ch\n\n\n\n
URL:http://www.olgsga.ch/event/osterhasen-ol-4/
CATEGORIES:diverse Anlässe
END:VEVENT
END:VCALENDAR