BEGIN:VCALENDAR
VERSION:2.0
PRODID:-//OLG St.Gallen/Appenzell - ECPv4.6.21//NONSGML v1.0//EN
CALSCALE:GREGORIAN
METHOD:PUBLISH
X-WR-CALNAME:OLG St.Gallen/Appenzell
X-ORIGINAL-URL:http://www.olgsga.ch
X-WR-CALDESC:Veranstaltungen für OLG St.Gallen/Appenzell
BEGIN:VEVENT
DTSTART;TZID=Europe/Zurich:20210324T183000
DTEND;TZID=Europe/Zurich:20210324T193000
DTSTAMP:20260420T201853
CREATED:20210306T101925Z
LAST-MODIFIED:20210306T101942Z
UID:18940-1616610600-1616614200@www.olgsga.ch
SUMMARY:Online OL-Training
DESCRIPTION:\n\n\nTrainingszeit:\n \n18:30 – 19:30 Uhr\n\n\nBesammlung:\nZoom Meeting (Termineinladung siehe E-Mail)\n\n\nAnmeldung:\nkeine Anmeldung erforderlich\n\n\n\n
URL:http://www.olgsga.ch/event/online-ol-training/
CATEGORIES:Training
ORGANIZER;CN="OLG%20St.Gallen%2FAppenzell":MAILTO:info@olgsga.ch
END:VEVENT
END:VCALENDAR