BEGIN:VCALENDAR
VERSION:2.0
PRODID:-//OLG St.Gallen/Appenzell - ECPv4.6.21//NONSGML v1.0//EN
CALSCALE:GREGORIAN
METHOD:PUBLISH
X-WR-CALNAME:OLG St.Gallen/Appenzell
X-ORIGINAL-URL:http://www.olgsga.ch
X-WR-CALDESC:Veranstaltungen für OLG St.Gallen/Appenzell
BEGIN:VEVENT
DTSTART;TZID=Europe/Zurich:20250917T180000
DTEND;TZID=Europe/Zurich:20250917T190000
DTSTAMP:20260421T110329
CREATED:20250421T171048Z
LAST-MODIFIED:20250421T171450Z
UID:40633-1758132000-1758135600@www.olgsga.ch
SUMMARY:OLG-Training
DESCRIPTION:\n\n\nTrainingszeit:\n \n18:00 – 19:00 Uhr\n\n\nKarte:\nTannenberg\n\n\nTreffpunkt:\nParkplatz/Wasserreservoir\, Achse Engelburg-Waldkirch (Google Maps)\n\n\n\n
URL:http://www.olgsga.ch/event/olg-training-307/
CATEGORIES:Training
ORGANIZER;CN="OLG%20St.Gallen%2FAppenzell":MAILTO:info@olgsga.ch
END:VEVENT
END:VCALENDAR