BEGIN:VCALENDAR
VERSION:2.0
PRODID:-//OLG St.Gallen/Appenzell - ECPv4.6.21//NONSGML v1.0//EN
CALSCALE:GREGORIAN
METHOD:PUBLISH
X-WR-CALNAME:OLG St.Gallen/Appenzell
X-ORIGINAL-URL:http://www.olgsga.ch
X-WR-CALDESC:Veranstaltungen für OLG St.Gallen/Appenzell
BEGIN:VEVENT
DTSTART;TZID=Europe/Zurich:20250813T180000
DTEND;TZID=Europe/Zurich:20250813T190000
DTSTAMP:20260421T111548
CREATED:20250421T170833Z
LAST-MODIFIED:20250421T170833Z
UID:40629-1755108000-1755111600@www.olgsga.ch
SUMMARY:OLG-Training
DESCRIPTION:\n\n\nTrainingszeit:\n \n18:00 – 19:00 Uhr\n\n\nKarte:\nNeuchlen\n\n\nTreffpunkt:\nParkplatz Walter Zoo\, Gossau (Google Maps)\n\n\n\n
URL:http://www.olgsga.ch/event/olg-training-305/
CATEGORIES:Training
ORGANIZER;CN="OLG%20St.Gallen%2FAppenzell":MAILTO:info@olgsga.ch
END:VEVENT
END:VCALENDAR