BEGIN:VCALENDAR
VERSION:2.0
PRODID:-//OLG St.Gallen/Appenzell - ECPv4.6.21//NONSGML v1.0//EN
CALSCALE:GREGORIAN
METHOD:PUBLISH
X-WR-CALNAME:OLG St.Gallen/Appenzell
X-ORIGINAL-URL:http://www.olgsga.ch
X-WR-CALDESC:Veranstaltungen für OLG St.Gallen/Appenzell
BEGIN:VEVENT
DTSTART;TZID=Europe/Zurich:20230301T181500
DTEND;TZID=Europe/Zurich:20230301T201500
DTSTAMP:20260421T161029
CREATED:20221223T212056Z
LAST-MODIFIED:20221223T212056Z
UID:33511-1677694500-1677701700@www.olgsga.ch
SUMMARY:OLG-Training
DESCRIPTION:\n\n\n18:15 – 18:45\n \nkurzes Lauftraining draussen für alle\, die Lust haben\n\n\n18:45 – 20:15\nHallentraining: Kraft\, Ausdauer\, OL-Formen in der Halle\n\n\n\n  \n
URL:http://www.olgsga.ch/event/olg-training-235/
LOCATION:Gerhardtstrasse 10\, St. Gallen\, 9012\, Schweiz
CATEGORIES:Training
ORGANIZER;CN="OLG%20St.Gallen%2FAppenzell":MAILTO:info@olgsga.ch
END:VEVENT
END:VCALENDAR