BEGIN:VCALENDAR
VERSION:2.0
PRODID:-//OLG St.Gallen/Appenzell - ECPv4.6.21//NONSGML v1.0//EN
CALSCALE:GREGORIAN
METHOD:PUBLISH
X-WR-CALNAME:OLG St.Gallen/Appenzell
X-ORIGINAL-URL:http://www.olgsga.ch
X-WR-CALDESC:Veranstaltungen für OLG St.Gallen/Appenzell
BEGIN:VEVENT
DTSTART;TZID=Europe/Zurich:20221207T181500
DTEND;TZID=Europe/Zurich:20221207T201500
DTSTAMP:20260421T195047
CREATED:20221011T173554Z
LAST-MODIFIED:20221120T180405Z
UID:31861-1670436900-1670444100@www.olgsga.ch
SUMMARY:Chlaus-OLG-Training
DESCRIPTION:\n\n\n18:15 – 18:45\n \nkurzes Lauftraining draussen für alle\, die Lust haben\n\n\n18:50 – 20:15\nHallentraining: Kraft\, Ausdauer\, OL-Formen und natürlich Spielen am Schluss\n\n\n\n  \n
URL:http://www.olgsga.ch/event/olg-training-227/
LOCATION:Gerhardtstrasse 10\, St. Gallen\, 9012\, Schweiz
CATEGORIES:Training
ORGANIZER;CN="OLG%20St.Gallen%2FAppenzell":MAILTO:info@olgsga.ch
END:VEVENT
END:VCALENDAR