BEGIN:VCALENDAR
VERSION:2.0
PRODID:-//OLG St.Gallen/Appenzell - ECPv4.6.21//NONSGML v1.0//EN
CALSCALE:GREGORIAN
METHOD:PUBLISH
X-WR-CALNAME:OLG St.Gallen/Appenzell
X-ORIGINAL-URL:http://www.olgsga.ch
X-WR-CALDESC:Veranstaltungen für OLG St.Gallen/Appenzell
BEGIN:VEVENT
DTSTART;TZID=Europe/Zurich:20220511T180000
DTEND;TZID=Europe/Zurich:20220511T190000
DTSTAMP:20260421T050003
CREATED:20220503T175723Z
LAST-MODIFIED:20220503T175723Z
UID:27819-1652292000-1652295600@www.olgsga.ch
SUMMARY:OLG-Training
DESCRIPTION:\n\n\nTrainingszeit:\n \n18:00 – 19:00 Uhr\n\n\nTrainingsart:\nOL Training\n\n\nTreffpunkt:\nGatterstrasse Finnenbahnhüsli\n\n\nTrainingsinhalt:\nWald OL: Block 1\n\n\nKarte:\nSitterwald Süd\n\n\n\n  \n
URL:http://www.olgsga.ch/event/olg-training-212/
CATEGORIES:Training
ORGANIZER;CN="OLG%20St.Gallen%2FAppenzell":MAILTO:info@olgsga.ch
END:VEVENT
END:VCALENDAR