BEGIN:VCALENDAR
VERSION:2.0
PRODID:-//OLG St.Gallen/Appenzell - ECPv4.6.21//NONSGML v1.0//EN
CALSCALE:GREGORIAN
METHOD:PUBLISH
X-WR-CALNAME:OLG St.Gallen/Appenzell
X-ORIGINAL-URL:http://www.olgsga.ch
X-WR-CALDESC:Veranstaltungen für OLG St.Gallen/Appenzell
BEGIN:VEVENT
DTSTART;TZID=Europe/Zurich:20211027T181500
DTEND;TZID=Europe/Zurich:20211027T201500
DTSTAMP:20260420T201615
CREATED:20211016T083920Z
LAST-MODIFIED:20211016T164351Z
UID:23322-1635358500-1635365700@www.olgsga.ch
SUMMARY:OLG-Training
DESCRIPTION:\n\n\n18:15 – 18:45\n \nkurzes Lauftraining für alle\, die Lust haben\n\n\n18:50 – 20:15\nHallentraining: Kraft\, Ausdauer\, OL-Formen\n\n\n\nCorona-Schutzmassnahmen:\nGemäss den aktuellen Massnahmen ist bei regelmässigen Trainingsgruppen mit bis zu 30 Personen keine Zertifikatspflicht notwendig. Im Schulhaus gilt jedoch Maskenpflicht vor und nach dem Training. \nBitte tragt euch hier für das Training ein: Anmeldung OLG-Training \n
URL:http://www.olgsga.ch/event/olg-training-189/
LOCATION:Gerhardtstrasse 10\, St. Gallen\, 9012\, Schweiz
CATEGORIES:Training
ORGANIZER;CN="OLG%20St.Gallen%2FAppenzell":MAILTO:info@olgsga.ch
END:VEVENT
END:VCALENDAR