BEGIN:VCALENDAR
VERSION:2.0
PRODID:-//OLG St.Gallen/Appenzell - ECPv4.6.21//NONSGML v1.0//EN
CALSCALE:GREGORIAN
METHOD:PUBLISH
X-WR-CALNAME:OLG St.Gallen/Appenzell
X-ORIGINAL-URL:http://www.olgsga.ch
X-WR-CALDESC:Veranstaltungen für OLG St.Gallen/Appenzell
BEGIN:VEVENT
DTSTART;TZID=Europe/Zurich:20210922T180000
DTEND;TZID=Europe/Zurich:20210922T190000
DTSTAMP:20260420T130349
CREATED:20210607T174748Z
LAST-MODIFIED:20210607T174748Z
UID:20169-1632333600-1632337200@www.olgsga.ch
SUMMARY:OLG-Training
DESCRIPTION:\n\n\nTrainingszeit:\n \n18:00 – 19:00 Uhr\n\n\nTrainingsort:\nTeufen\n\n\nTreffpunkt:\nEnde Bleichiweg\n\n\nTrainingsinhalt:\nSprint OL\n\n\nAnmeldung:\nAufgrund der aktuellen Corona-Regelung sind für das Mittwochtraining maximal 50 Personen zugelassen.\n Bitte meldet euch hier an: Anmeldung!\n\n\n\n  \n
URL:http://www.olgsga.ch/event/olg-training-187/
CATEGORIES:Training
ORGANIZER;CN="OLG%20St.Gallen%2FAppenzell":MAILTO:info@olgsga.ch
END:VEVENT
END:VCALENDAR