BEGIN:VCALENDAR
VERSION:2.0
PRODID:-//OLG St.Gallen/Appenzell - ECPv4.6.21//NONSGML v1.0//EN
CALSCALE:GREGORIAN
METHOD:PUBLISH
X-WR-CALNAME:OLG St.Gallen/Appenzell
X-ORIGINAL-URL:http://www.olgsga.ch
X-WR-CALDESC:Veranstaltungen für OLG St.Gallen/Appenzell
BEGIN:VEVENT
DTSTART;VALUE=DATE:20210818
DTEND;VALUE=DATE:20210820
DTSTAMP:20260420T131751
CREATED:20210607T174139Z
LAST-MODIFIED:20210607T174139Z
UID:20161-1629259200-1629345599@www.olgsga.ch
SUMMARY:OLG-Training
DESCRIPTION:Gemeinsames Training mit OL Regio Wil – Informationen folgen. \n
URL:http://www.olgsga.ch/event/olg-training-183/
CATEGORIES:Training
END:VEVENT
END:VCALENDAR