BEGIN:VCALENDAR
VERSION:2.0
PRODID:-//OLG St.Gallen/Appenzell - ECPv4.6.21//NONSGML v1.0//EN
CALSCALE:GREGORIAN
METHOD:PUBLISH
X-WR-CALNAME:OLG St.Gallen/Appenzell
X-ORIGINAL-URL:http://www.olgsga.ch
X-WR-CALDESC:Veranstaltungen für OLG St.Gallen/Appenzell
BEGIN:VEVENT
DTSTART;VALUE=DATE:20260624
DTEND;VALUE=DATE:20260626
DTSTAMP:20260420T092843
CREATED:20251204T190721Z
LAST-MODIFIED:20251204T190721Z
UID:41571-1782273600-1782359999@www.olgsga.ch
SUMMARY:OL CHALLENGE St.Gallen Rosenberg
DESCRIPTION:\n\n\nEvent:\n3. Lauf der OL CHALLENGE St.Gallen – Appenzell 2026\n\n\nOrt:\nSt.Gallen Rosenberg\n\n\nWebsite:\nhttps://olchallenge.ch\n\n\n\n \n
URL:http://www.olgsga.ch/event/ol-challenge-st-gallen-rosenberg-2/
CATEGORIES:OL CHALLENGE,Training
ORGANIZER;CN="OLG%20St.Gallen%2FAppenzell":MAILTO:info@olgsga.ch
END:VEVENT
END:VCALENDAR