BEGIN:VCALENDAR
VERSION:2.0
PRODID:-//OLG St.Gallen/Appenzell - ECPv4.6.21//NONSGML v1.0//EN
CALSCALE:GREGORIAN
METHOD:PUBLISH
X-WR-CALNAME:OLG St.Gallen/Appenzell
X-ORIGINAL-URL:http://www.olgsga.ch
X-WR-CALDESC:Veranstaltungen für OLG St.Gallen/Appenzell
BEGIN:VEVENT
DTSTART;VALUE=DATE:20250611
DTEND;VALUE=DATE:20250613
DTSTAMP:20260421T134229
CREATED:20241207T210738Z
LAST-MODIFIED:20241207T210850Z
UID:40134-1749614400-1749700799@www.olgsga.ch
SUMMARY:OL CHALLENGE Herisau
DESCRIPTION:\n\n\nEvent:\n3. Lauf der OL CHALLENGE St.Gallen – Appenzell 2025\n\n\nOrt:\nHerisau\n\n\nWebsite:\nhttps://olchallenge.ch\n\n\n\n \n
URL:http://www.olgsga.ch/event/ol-challenge-herisau/
CATEGORIES:OL CHALLENGE,Training
ORGANIZER;CN="OLG%20St.Gallen%2FAppenzell":MAILTO:info@olgsga.ch
END:VEVENT
END:VCALENDAR