BEGIN:VCALENDAR
VERSION:2.0
PRODID:-//OLG St.Gallen/Appenzell - ECPv4.6.21//NONSGML v1.0//EN
CALSCALE:GREGORIAN
METHOD:PUBLISH
X-WR-CALNAME:OLG St.Gallen/Appenzell
X-ORIGINAL-URL:http://www.olgsga.ch
X-WR-CALDESC:Veranstaltungen für OLG St.Gallen/Appenzell
BEGIN:VEVENT
DTSTART;VALUE=DATE:20210827
DTEND;VALUE=DATE:20210829
DTSTAMP:20260420T182824
CREATED:20210805T150738Z
LAST-MODIFIED:20210805T150738Z
UID:21161-1630036800-1630123199@www.olgsga.ch
SUMMARY:Öpfel-Trophy: Wängi
DESCRIPTION:weitere Informationen: www.oepfel-trophy.ch \n
URL:http://www.olgsga.ch/event/oepfel-trophy-waengi-2/
CATEGORIES:Regionale Saison
END:VEVENT
END:VCALENDAR