BEGIN:VCALENDAR
VERSION:2.0
PRODID:-//OLG St.Gallen/Appenzell - ECPv4.6.21//NONSGML v1.0//EN
CALSCALE:GREGORIAN
METHOD:PUBLISH
X-WR-CALNAME:OLG St.Gallen/Appenzell
X-ORIGINAL-URL:http://www.olgsga.ch
X-WR-CALDESC:Veranstaltungen für OLG St.Gallen/Appenzell
BEGIN:VEVENT
DTSTART;VALUE=DATE:20220429
DTEND;VALUE=DATE:20220501
DTSTAMP:20260421T013814
CREATED:20220327T103526Z
LAST-MODIFIED:20220327T103526Z
UID:26894-1651204800-1651291199@www.olgsga.ch
SUMMARY:Öpfel-Trophy: Lommis
DESCRIPTION:weitere Informationen: www.oepfel-trophy.ch \n
URL:http://www.olgsga.ch/event/oepfel-trophy-lommis-2/
CATEGORIES:Regionale Saison
END:VEVENT
END:VCALENDAR