BEGIN:VCALENDAR
VERSION:2.0
PRODID:-//OLG St.Gallen/Appenzell - ECPv4.6.21//NONSGML v1.0//EN
CALSCALE:GREGORIAN
METHOD:PUBLISH
X-WR-CALNAME:OLG St.Gallen/Appenzell
X-ORIGINAL-URL:http://www.olgsga.ch
X-WR-CALDESC:Veranstaltungen für OLG St.Gallen/Appenzell
BEGIN:VEVENT
DTSTART;VALUE=DATE:20250425
DTEND;VALUE=DATE:20250427
DTSTAMP:20260421T103014
CREATED:20241207T211504Z
LAST-MODIFIED:20241207T211504Z
UID:40147-1745553600-1745639999@www.olgsga.ch
SUMMARY:Öpfel-Trophy: Guntershausen
DESCRIPTION:weitere Informationen: www.oepfel-trophy.ch \n
URL:http://www.olgsga.ch/event/oepfel-trophy-guntershausen/
CATEGORIES:diverse Anlässe
END:VEVENT
END:VCALENDAR